BEGIN:VCALENDAR
VERSION:2.0
PRODID:-//ChamberMaster//Event Calendar 2.0//EN
METHOD:PUBLISH
X-PUBLISHED-TTL:P1H
REFRESH-INTERVAL:P1H
CALSCALE:GREGORIAN
BEGIN:VTIMEZONE
TZID:America/New_York
BEGIN:DAYLIGHT
RRULE:FREQ=YEARLY;BYMONTH=3;BYDAY=2SU
DTSTART:20070101T000000
TZOFFSETFROM:-0500
TZOFFSETTO:-0400
TZNAME:Eastern Daylight Time
END:DAYLIGHT
BEGIN:STANDARD
RRULE:FREQ=YEARLY;BYMONTH=11;BYDAY=1SU
DTSTART:20070101T000000
TZOFFSETFROM:-0400
TZOFFSETTO:-0500
TZNAME:Eastern Standard Time
END:STANDARD
END:VTIMEZONE
BEGIN:VEVENT
DTSTART;TZID=America/New_York:20260506T090000
DTEND;TZID=America/New_York:20260506T100000
X-MICROSOFT-CDO-ALLDAYEVENT:FALSE
SUMMARY:Preferred Business Partners Committee Meeting
DESCRIPTION:The next meeting will be June 3\, 2026 at 9 a.m.Lakeland REALTORS  2026 Preferred Business Partners (Affiliate Partners) Committee MeetingOccurrence: 1st Wednesday of the month at 9 a.m.
X-ALT-DESC;FMTTYPE=text/html:<!DOCTYPE html><html><head><title></title></head><body aria-disabled="false" spellcheck="false"><p>The next meeting will be June 3\, 2026 at 9 a.m.</p><p>Lakeland REALTORS&reg\; 2026 Preferred Business Partners (Affiliate Partners) Committee Meeting</p><p>Occurrence: 1st Wednesday of the month at 9 a.m.</p></body></html>
LOCATION:619 E. Orange Street Lakeland FL 33801
UID:e.2601.1442694
SEQUENCE:3
DTSTAMP:20260420T121828Z
URL:https://members.lakelandrealtors.org/calendar/Details/preferred-business-partners-committee-meeting-1540170?sourceTypeId=Hub
END:VEVENT
END:VCALENDAR
